BEGIN:VCALENDAR
VERSION:2.0
PRODID:-//PYVOBJECT//NONSGML Version 1//EN
BEGIN:VEVENT
UID:19923:1522
DTSTART:20130610T000000
DTEND:20131031T000000
DESCRIPTION:
DTSTAMP:20260425T115333Z
SUMMARY:Jeden Sonntag von 9-12h geöffnet.
END:VEVENT
END:VCALENDAR
